BEGIN:VCALENDAR
PRODID:-//AT Content Types//AT Event//EN
VERSION:2.0
METHOD:PUBLISH
BEGIN:VEVENT
DTSTAMP:20260420T064021Z
CREATED:20231108T083432Z
UID:ATEvent-2a056bae3d974f3db0a01da345c154c2
LAST-MODIFIED:20231113T100219Z
SUMMARY:La violenza contro le donne nei contesti di grave sfruttamento
DTSTART:20231123T140000Z
DTEND:20231123T170000Z
DESCRIPTION:Nell'ambito del corso di Sociologia della devianza e crimi
 nologia e\nin occasione della Giornata internazionale sulla violenza c
 ontro le donne
LOCATION:Dipartimento di Giurisprudenza - Sala Consiliare “Lorenza Carlassare”
CLASS:PUBLIC
END:VEVENT
END:VCALENDAR
